BEGIN:VCALENDAR
VERSION:2.0
PRODID:-//MTA Open Access - ECPv5.3.0//NONSGML v1.0//EN
CALSCALE:GREGORIAN
METHOD:PUBLISH
X-WR-CALNAME:MTA Open Access
X-ORIGINAL-URL:https://openaccess.mtak.hu
X-WR-CALDESC:Events for MTA Open Access
BEGIN:VTIMEZONE
TZID:UTC
BEGIN:STANDARD
TZOFFSETFROM:+0000
TZOFFSETTO:+0000
TZNAME:UTC
DTSTART:20190101T000000
END:STANDARD
END:VTIMEZONE
BEGIN:VEVENT
DTSTART;TZID=UTC:20191129T100000
DTEND;TZID=UTC:20191129T163000
DTSTAMP:20260421T113901
CREATED:20200311T123029Z
LAST-MODIFIED:20201127T072959Z
UID:476-1575021600-1575045000@openaccess.mtak.hu
SUMMARY:Tudománymetria: barát vagy ellenség?
DESCRIPTION:Az eseményen három téma köré szervezünk beszélgetéseket\, melyeket egy kb. 20 perces átfogóbb prezentáció\, majd több rövidebb\, 5-10 perces villám előadás vezet fel.A programot a Digitális Bölcsészet folyóirat\, az MTA Könyvtár és Információs Központ\, valamint az ELTE Egyetemi Könyvtár és Levéltár szervezi.Az esemény Facebook oldala elérhető itt. \n				\n				\n						\n					\n		\n								\n					\n		\n				\n						\n							\n					\n			\n							\n						\n				\n					\n							\n					\n												\n															\n								\n													\n												Program\n					\n					10:00 – 12:00-ig   Köszöntő   Tudománymetria és/vagy kutatásértékelés?Moderál: Virág Gabriella (ELTE Egyetemi Könyvtár és Levéltár)   Tudománymetria és/vagy kutatásértékelés?Soós Sándor\, MTA KIK Tudománypolitikai és Tudományelemzési OsztályAkadémiai körökben a tudománymetria leggyakrabban szitokszó. Ennek hátterében több évtizedes tudománytörténet\, az elmélet és gyakorlat konfliktusa\, az érdekeltek: kutatók\, kutatásmenedzsment\, finanszírozók eltérő céljai és percepciója\, és főleg az ezekből adódó kategóriahibák és félreértések állnak. Utóbbiak jellegzetes példája a tudománymetria és kutatásértékelés fogalmainak összemosása\, amelynek számos gyakorlati következménye van. Az előadás ennek a zavaros képnek a letisztításához igyekszik hozzájárulni\, a tudománymetria természetét és néhány neuralgikus alkalmazási kérdését megcélozva.   Tudománymetria és benchmarking: házasság szerencsés csillagzat alatt?Borsi Balázs   Valódi értékek a tudománybanSzentpéteri Márton és Gyenge Zsolt\, Moholy-Nagy Művészeti Egyetem   Tudománymetria a (digitális) bölcsészet szemszögébőlPéter Róbert\, SZTE BTK Angol-Amerikai Intézet   Puha és kemény tudományok viszonya a tudományos térbenVida Zsófia\, MTA KIK Tudománypolitikai és Tudományelemzési Osztály   12:00 – 13:00-ig   Szünet   13:00 – 15:00-ig   Hétköznapi tudománymetriaModerál: Bilicsi Erika (MTA KIK Szakinformatikai Osztály)   A bölcsészettudományok monstruitásaRusvai Mónika\, MTA KIK Tudománypolitikai és Tudományelemzési OsztályA bölcsészet- és társadalomtudományok szinte minden tudománymetriai megközelítésben hátrányt szenvednek más tudományterületekkel szemben. Mi ennek az oka\, hogyan lehetne változtatni és hogyan viszonyulunk hazánkban a humántudományok metriájához? Kutatóként hogyan tehetünk a tudományterület láthatóságának javításáért?   Egyszerű esettanulmányLantos Edit\, MTA Könyvtár és Információs Központ   Tudománymetria: minőségbiztosítás vagy retorikai fegyver? Tudománymetriai mérések felhasználása a tudományos és közéleti diskurzusbanDemeter Márton\, NKE ÁNTK Társadalmi Kommunikáció Tanszék   Tudománymetria egy tudományegyetemenNagy Gyula\, SZTE Klebelsberg Könyvtár   15:00 – 15:20-ig   Szünet   15:20 – 16:30-ig   Alternatív mérési módszerekModerál: Maróthy Szilvia (BTK Irodalomtudományi Intézet)   Alternatív mérési módszerekDér Ádám\, MTA KIK EISZAz utóbbi időben a tudományos eredmények társadalomra vonatkozó hatásának mérése érdekében egyre nagyobb hangsúlyt kapnak azok a mérőszámok\, amelyek nem kizárólag a szakirodalmi hivatkozásokat veszik figyelembe. Az előadás az alternatív metrikák típusait\, felhasználási módjait\, előnyeit és hátrányait mutatja be\, továbbá ajánlásokat fogalmaz meg a tudományos kibocsátás hagyományostól eltérő mérési lehetőségeinek gyakorlati alkalmazására.   A tudományos értékelés újragondolvaGörögh Edit\, Debreceni Egyetem Egyetemi és Nemzeti Könyvtár   16:30   Zárszó
URL:https://openaccess.mtak.hu/event/tudomanymetria-barat-vagy-ellenseg/
LOCATION:MTA Könyvtár és Információs Központ (2. emelet\, Konferenciaterem)\, Arany János utca 1.\, Budapest\, 1051\, Magyarország
END:VEVENT
END:VCALENDAR