BEGIN:VCALENDAR
VERSION:2.0
PRODID:-//MTA Open Access - ECPv5.3.0//NONSGML v1.0//EN
CALSCALE:GREGORIAN
METHOD:PUBLISH
X-WR-CALNAME:MTA Open Access
X-ORIGINAL-URL:https://openaccess.mtak.hu
X-WR-CALDESC:Events for MTA Open Access
BEGIN:VTIMEZONE
TZID:UTC
BEGIN:STANDARD
TZOFFSETFROM:+0000
TZOFFSETTO:+0000
TZNAME:UTC
DTSTART:20240101T000000
END:STANDARD
END:VTIMEZONE
BEGIN:VEVENT
DTSTART;TZID=UTC:20240306T100000
DTEND;TZID=UTC:20240306T120000
DTSTAMP:20260424T071844
CREATED:20240223T125403Z
LAST-MODIFIED:20240306T082346Z
UID:2344-1709719200-1709726400@openaccess.mtak.hu
SUMMARY:Technikai támogatás tudományos\, nyílt hozzáférésű folyóiratok számára
DESCRIPTION:A Magyar Tudományos Akadémia a magyar tudományos folyóiratok láthatóságának – ezáltal olvasottságának és presztízsének – növelése érdekében technikai támogatást ajánl a Könyv- és Folyóirat-kiadási pályázat keretében támogatott tudományos\, nyílt hozzáférésű folyóiratok számára. \nA kedvezményezettek térítésmentesen vehetik igénybe az MTA Könyvtár és Információs Központ (MTA KIK) folyóirat-publikálást támogató szolgáltatásait\, mivel annak költségeit az MTA finanszírozza: \n\nOpen Journal Systems (OJS) publikációs szoftver használata\,\nDOI regisztráció a CrossRef ügynökség szolgáltatásának keretében\,\na cikkek adatainak indexelése az MTMT-ben\,\nrepozitóriumi (REAL) archiválás cikkenként és lapszámonként (REAL-J) is.\n\nA szolgáltatásokat részletesen ismertetik 2024. március 6-án 10 órától az MTA Könyvtár és Információs Központ munkatársai:  Bavalicsné Kerekes Beáta\, Bilicsi Erika és Virág Gabriella. \nAz eseményen való részvétel regisztrációhoz kötött mind jelenléti\, mind online formában. \nAz előadásokat online\, a Zoom-felületén is lehet követni\, de konzultációra\, kérdések feltételére csak a személyesen résztvevőknek lesz lehetősége. Az online csatlakozáshoz a linket az esemény előtti napon küldjük ki\, ezért regisztrációt 2024. március 4-ig fogadunk.
URL:https://openaccess.mtak.hu/event/technikai-tamogatas-tudomanyos-nyilt-hozzaferesu-folyoiratok-szamara/
LOCATION:MTA Könyvtár és Információs Központ (2. emelet\, Konferenciaterem)\, Arany János utca 1.\, Budapest\, 1051\, Magyarország
END:VEVENT
END:VCALENDAR