BEGIN:VCALENDAR
VERSION:2.0
PRODID:-//MTA Open Access - ECPv5.3.0//NONSGML v1.0//EN
CALSCALE:GREGORIAN
METHOD:PUBLISH
X-WR-CALNAME:MTA Open Access
X-ORIGINAL-URL:https://openaccess.mtak.hu
X-WR-CALDESC:Events for MTA Open Access
BEGIN:VTIMEZONE
TZID:UTC
BEGIN:STANDARD
TZOFFSETFROM:+0000
TZOFFSETTO:+0000
TZNAME:UTC
DTSTART:20220101T000000
END:STANDARD
END:VTIMEZONE
BEGIN:VEVENT
DTSTART;TZID=UTC:20220118T100000
DTEND;TZID=UTC:20220118T150000
DTSTAMP:20260424T032635
CREATED:20220112T074836Z
LAST-MODIFIED:20220119T145334Z
UID:2167-1642500000-1642518000@openaccess.mtak.hu
SUMMARY:Kutatásiadat-archiválási pilot-projektek az Eötvös Loránd Kutatási Hálózathoz tartozó kutatóközpontokban\, -intézetekben és -csoportokban
DESCRIPTION:2021-ben 7 kutatásiadat-archiválási pilot-projekt valósult meg a Research Data Alliance Hungarian National Node (HRDA) szervezet projektjének keretében\, az ELKH Titkárság anyagi támogatásával. \nA projekt záró rendezvényére 2022. január 18-án\, kedden\, 10 órai kezdettel kerül sor online formában\, melyre ezúton tisztelettel meghívjuk Önöket. \nAz esemény programja \nA Kutatásiadat-archiválási pilot-projektek az Eötvös Loránd Kutatási Hálózathoz tartozó kutatóközpontokban\, -intézetekben és -csoportokban című konferencia keretében a támogatást elnyert projektek mutatkoznak be\, megosztják a megvalósítás során szerzett tapasztalataikat és lesz szó a projekt folytatásáról is. Célunk\, hogy kapcsolatot teremtsünk a kutatásaiadat-kezeléssel foglalkozó szakemberek között és fórumot nyújtsunk a jó gyakorlatok megosztására az összehangolt\, hatékony magyarországi kutatásiadat-kezelés érdekében. \nA konferenciához az alábbi Zoom fiókban lehet csatlakozni\n– webböngészőből: https://us06web.zoom.us/j/84935900454?pwd=VGdOMng1SFBSVHhiOWZsWi9NVFc2Zz09 \n– letöltött Zoom alkalmazásból:\nMeeting ID: 849 3590 0454\nPasscode: 251983 \nSzeretettel várjuk Önöket a rendezvényen! \n  \nA rendezvényen elhangzott előadások prezentációi: \nELKH – HRDA – MTA KIK projektzáró rendezvény\nHoll András HRDA koordinátor\ninformatikai főigazgató-helyettes\, MTA Könyvtár és Információs Központ \nRégészeti rajzgyűjtemény kutatási adatainak közreadása a CONCORDA repozitóriumban: tapasztalatok és tanulságok\nHorváth Friderika osztályvezető\nBölcsészettudományi Kutatóközpont\, Régészeti Intézet\, Tudományos szolgáltató Osztály \nRégi kutatások veszélyben lévő kutatási adatainak megóvása\nMeiszterics Enikő gyűjteménygondozási munkatárs\nTársadalomtudományi Kutatóközpont\, Kutatási Dokumentációs Központ (TK KDK) \nRepozitórium használatot elősegítő eszközök fejlesztése OpenBioMaps – biológiai adatkezelő-platformon\nBán Miklós biológus\nDebreceni Egyetem\, MTA-DE Viselkedésökológiai Kutatócsoport \nSokcsatornás\, nagy téri felbontású in vivo elektrofiziológiai adatok archiválása\nFiáth Richárd tudományos munkatárs\nELKH Természettudományi Kutatóközpont\, Kognitív Idegtudományi és Pszichológiai Intézet\, Integratív Idegtudományi Csoport \nFunkcionális anyagok kutatási adatainak archiválása\nSzilágyi Edit tudományos tanácsadó\, osztályvezető\nWigner Fizikai Kutatóközpont\, Nukleáris Anyagtudományi Osztály \nKis dózisoknál megfigyelhető hiperszenzitivitással és indukált sugárrezisztenciával kapcsolatos adatok gyűjtése és közzététele\nMadas Balázs tudományos főmunkatárs\, csoportvezető\nEnergiatudományi Kutatóközpont\, Környezetfizikai Laboratórium\nés\nPolgár Szabolcs\ndoktorandusz\, Eötvös Loránd Tudományegyetem\, Fizika Doktori Iskola\ntudományos segédmunkatárs\, Energiatudományi Kutatóközpont\, Környezetfizikai Laboratórium \nAdatarchiválási pilot projekt a fúziós kutatásokban az Energiatudományi Kutatóközpontban\nCseh Gábor kutató fizikus\nFúziós Plazmafizika Laboratórium\, Energiatudományi Kutatóközpont\, ELKH \nAz ELKH Adat Repozitórium Projekt és kihasználási lehetőségei a kutatók számára\nKacsuk Péter Tudományos Tanácsadó és Laborvezető\nSZTAKI
URL:https://openaccess.mtak.hu/event/kutatasiadat-archivalasi-pilot-projektek-az-eotvos-lorand-kutatasi-halozathoz-tartozo-kutatokozpontokban-intezetekben-es-csoportokban/
LOCATION:Online közvetítés\, Zoom meeting
ORGANIZER;CN="OA%20meeting":MAILTO:oameeting@konyvtar.mta.hu
END:VEVENT
END:VCALENDAR